BEGIN:VCALENDAR
VERSION:2.0
PRODID:-//Birmingham Carers Hub - ECPv6.10.1.1//NONSGML v1.0//EN
CALSCALE:GREGORIAN
METHOD:PUBLISH
X-ORIGINAL-URL:https://birminghamcarershub.org.uk
X-WR-CALDESC:Events for Birmingham Carers Hub
REFRESH-INTERVAL;VALUE=DURATION:PT1H
X-Robots-Tag:noindex
X-PUBLISHED-TTL:PT1H
BEGIN:VTIMEZONE
TZID:UTC
BEGIN:STANDARD
TZOFFSETFROM:+0000
TZOFFSETTO:+0000
TZNAME:UTC
DTSTART:20210101T000000
END:STANDARD
END:VTIMEZONE
BEGIN:VEVENT
DTSTART;TZID=UTC:20210816T110000
DTEND;TZID=UTC:20210816T130000
DTSTAMP:20260420T114819
CREATED:20210817T123653Z
LAST-MODIFIED:20210930T094732Z
UID:22185-1629111600-1629118800@birminghamcarershub.org.uk
SUMMARY:Caring for Carers Dementia Support Group - Sutton Coldfield
DESCRIPTION:Caring for Carers Dementia Support Groups are specifically for carers of people with dementia or memory problems living in Birmingham. \nOur face-to-face Dementia Support Group meetings give you the opportunity to meet other carers in a similar situation\, share experiences and listen. Led by one of our experienced facilitators\, the group is a place which provides direction\, information\, emotional support and signposting to appropriate help\, wherever you are on your caring journey. \nPlease note that there is a maximum of 15 places available at our face-to-face group meetings. \n\n\n\n\nPlease be assured that Covid-19 safety measures are followed – we want everyone to feel safe when joining us in person at a group. \n\n\n\n\nThis group takes part every Monday except for Bank Holidays. \nHow to book\nYou can book via eventbrite here   \nOr contact Barbara by email or phone:\nBarbara.hylton-walker@sandwellcrossroads.org \n0121 803 1065
URL:https://birminghamcarershub.org.uk/event/caring-for-carers-dementia-support-group-3/2021-08-16/
LOCATION:Banners Gate Community Hall\, Reay Nadin Drive\, Sutton Coldfield\, Birmingham\, B73 6UR\, United Kingdom
CATEGORIES:Dementia
ATTACH;FMTTYPE=image/jpeg:https://birminghamcarershub.org.uk/wp-content/uploads/2021/08/https___cdn.evbuc_.com_images_143434359_458534201418_1_original-support-group.jpg
ORGANIZER;CN="Crossroads%2C in partnership with Birmingham Carers Hub":MAILTO:val.morgan-richards@sandwellcrossroads.org ;
GEO:52.559386;-1.8757265
X-APPLE-STRUCTURED-LOCATION;VALUE=URI;X-ADDRESS=Banners Gate Community Hall Reay Nadin Drive Sutton Coldfield Birmingham B73 6UR United Kingdom;X-APPLE-RADIUS=500;X-TITLE=Reay Nadin Drive\, Sutton Coldfield:geo:-1.8757265,52.559386
END:VEVENT
END:VCALENDAR